BEGIN:VCALENDAR
VERSION:2.0
PRODID:-//Ville East Angus - ECPv6.7.0//NONSGML v1.0//EN
CALSCALE:GREGORIAN
METHOD:PUBLISH
X-ORIGINAL-URL:https://eastangus.ca
X-WR-CALDESC:Événements pour Ville East Angus
REFRESH-INTERVAL;VALUE=DURATION:PT1H
X-Robots-Tag:noindex
X-PUBLISHED-TTL:PT1H
BEGIN:VTIMEZONE
TZID:America/Toronto
BEGIN:DAYLIGHT
TZOFFSETFROM:-0500
TZOFFSETTO:-0400
TZNAME:EDT
DTSTART:20210314T070000
END:DAYLIGHT
BEGIN:STANDARD
TZOFFSETFROM:-0400
TZOFFSETTO:-0500
TZNAME:EST
DTSTART:20211107T060000
END:STANDARD
END:VTIMEZONE
BEGIN:VEVENT
DTSTART;TZID=America/Toronto:20211204T130000
DTEND;TZID=America/Toronto:20211204T160000
DTSTAMP:20260424T140801
CREATED:20201205T124831Z
LAST-MODIFIED:20211128T142854Z
UID:23961-1638622800-1638633600@eastangus.ca
SUMMARY:Fête de Noël
DESCRIPTION:Fête de Noël en collaboration avec le Club Lions de East Angus\, la Maison des jeunes Actimaje et la Fondation Marc Rousseau\nSamedi 4 décembre de 13 h à 16 h au débarcadère de la Polyvalente Louis-Saint-Laurent situé au 188\, rue Kennedy\, East Angus\nEn formule service-au-volant (Vous n’avez pas de voiture ? Aucun problème.)\nAucune inscription nécessaire sous formule premiers arrivés\, premiers servis.\nPrésentez-vous avec votre famille et le Père Noël vous rencontrera et remettra les surprises aux plus petits. Une période maximale de temps sera allouée par famille afin de permettre à toutes les familles de rencontrer le Père Noël. \nPrenez note que l’organisation prendra toutes les mesures nécessaires en lien avec les directives gouvernementales actuelles.
URL:https://eastangus.ca/evenement/fete-de-noel-2/
LOCATION:Polyvalente Louis-Saint-Laurent\, 188\, rue Kennedy\, East Angus\, Québec\, J0B 1R0\, Canada
CATEGORIES:Spectacles et événements
ATTACH;FMTTYPE=image/jpeg:https://eastangus.ca/wp-content/uploads/2020/09/Fete-Noel-EastAngus.jpg
ORGANIZER;CN="Ville de East Angus":MAILTO:info@eastangus.ca
END:VEVENT
BEGIN:VEVENT
DTSTART;TZID=America/Toronto:20211204T190000
DTEND;TZID=America/Toronto:20211204T220000
DTSTAMP:20260424T140801
CREATED:20211002T122421Z
LAST-MODIFIED:20211002T122421Z
UID:29946-1638644400-1638655200@eastangus.ca
SUMMARY:Courteau de Trois-Rivières vs Sharks de East Angus – Ligue Régionale de Hockey
DESCRIPTION:Courteau de Trois-Rivières vs Sharks de East Angus – Ligue Régionale de Hockey\nhttps://liguehockeyregionale.com/\nSamedi 4 décembre à 19 h\nAréna Robert-Fournier \n18 ans et plus : 7 $\n6-17 ans : 5 $\n0-5 ans : Gratuit
URL:https://eastangus.ca/evenement/courteau-de-trois-rivieres-vs-sharks-de-east-angus-ligue-regionale-de-hockey/
LOCATION:Aréna Robert-Fournier\, 190\, rue Kennedy\, East Angus\, Québec\, J0B 1R0\, Canada
CATEGORIES:Sports
ATTACH;FMTTYPE=image/jpeg:https://eastangus.ca/wp-content/uploads/2021/09/Sharks-de-East-Angus-1-4.jpg
END:VEVENT
END:VCALENDAR