BEGIN:VCALENDAR
VERSION:2.0
PRODID:-//Ville East Angus - ECPv6.7.0//NONSGML v1.0//EN
CALSCALE:GREGORIAN
METHOD:PUBLISH
X-WR-CALNAME:Ville East Angus
X-ORIGINAL-URL:https://eastangus.ca
X-WR-CALDESC:Événements pour Ville East Angus
REFRESH-INTERVAL;VALUE=DURATION:PT1H
X-Robots-Tag:noindex
X-PUBLISHED-TTL:PT1H
BEGIN:VTIMEZONE
TZID:America/Toronto
BEGIN:DAYLIGHT
TZOFFSETFROM:-0500
TZOFFSETTO:-0400
TZNAME:EDT
DTSTART:20210314T070000
END:DAYLIGHT
BEGIN:STANDARD
TZOFFSETFROM:-0400
TZOFFSETTO:-0500
TZNAME:EST
DTSTART:20211107T060000
END:STANDARD
END:VTIMEZONE
BEGIN:VEVENT
DTSTART;VALUE=DATE:20211227
DTEND;VALUE=DATE:20211228
DTSTAMP:20260424T100702
CREATED:20211227T140539Z
LAST-MODIFIED:20211231T150306Z
UID:31043-1640563200-1640649599@eastangus.ca
SUMMARY:Activités libres (patinage libre et hockey libre) à l'Aréna Robert-Fournier durant la période des fêtes - Inscriptions obligatoire
DESCRIPTION:RÉSERVATION OBLIGATOIRE POUR LES ACTIVITÉS LIBRES (PATINAGE LIBRE ET HOCKEY LIBRE) À L’ARÉNA ROBERT-FOURNIER\nINSCRIPTION GRATUITE ICI \nCLIQUEZ ICI POUR VOIR L’HORAIRE\nhttps://eastangus.ca/loisirs/loisirs-et-vie-communautaire/arena-robert-fournier/
URL:https://eastangus.ca/evenement/activites-libres-patinage-libre-et-hockey-libre-a-larena-robert-fournier-durant-la-periode-des-fetes-inscriptions-obligatoire/2021-12-27/
LOCATION:Aréna Robert-Fournier\, 190\, rue Kennedy\, East Angus\, Québec\, J0B 1R0\, Canada
CATEGORIES:Sports
ATTACH;FMTTYPE=image/jpeg:https://eastangus.ca/wp-content/uploads/2021/01/Patinage-libre.jpg
END:VEVENT
BEGIN:VEVENT
DTSTART;VALUE=DATE:20211227
DTEND;VALUE=DATE:20211228
DTSTAMP:20260424T100702
CREATED:20211227T141147Z
LAST-MODIFIED:20211227T141211Z
UID:31067-1640563200-1640649599@eastangus.ca
SUMMARY:Glissade hivernale au Parc Nicol
DESCRIPTION:
URL:https://eastangus.ca/evenement/glissade-hivernale-au-parc-nicol/2021-12-27/
LOCATION:Parc Nicol\, 148\, rue St-François\, East Angus\, Québec\, J0B 1R0\, Canada
CATEGORIES:Sports
ATTACH;FMTTYPE=image/jpeg:https://eastangus.ca/wp-content/uploads/2021/01/Glissade-hivernale-.jpg
END:VEVENT
BEGIN:VEVENT
DTSTART;TZID=America/Toronto:20211227T080000
DTEND;TZID=America/Toronto:20211227T213000
DTSTAMP:20260424T100702
CREATED:20211227T141512Z
LAST-MODIFIED:20220115T114808Z
UID:31109-1640592000-1640640600@eastangus.ca
SUMMARY:Une visite au Parc des Deux Rivières de jour ou de soir
DESCRIPTION:Une visite au Parc des Deux Rivières de jour ou de soir. \nAccès gratuit. \nPlus d’informations : https://parcdesdeuxrivieres.ca/
URL:https://eastangus.ca/evenement/une-visite-au-parc-des-deux-rivieres-de-jour-ou-de-soir/2021-12-27/
LOCATION:Parc des Deux Rivières\, rue Willard\, East Angus\, Québec\, J0B 1R0\, Canada
CATEGORIES:Sports
ATTACH;FMTTYPE=image/jpeg:https://eastangus.ca/wp-content/uploads/2021/12/Promenade-hivernale-au-Parc-des-Deux-Rivieres-1-1.jpg
END:VEVENT
END:VCALENDAR