BEGIN:VCALENDAR
VERSION:2.0
PRODID:-//Ville East Angus - ECPv6.7.0//NONSGML v1.0//EN
CALSCALE:GREGORIAN
METHOD:PUBLISH
X-WR-CALNAME:Ville East Angus
X-ORIGINAL-URL:https://eastangus.ca
X-WR-CALDESC:Événements pour Ville East Angus
REFRESH-INTERVAL;VALUE=DURATION:PT1H
X-Robots-Tag:noindex
X-PUBLISHED-TTL:PT1H
BEGIN:VTIMEZONE
TZID:America/Toronto
BEGIN:DAYLIGHT
TZOFFSETFROM:-0500
TZOFFSETTO:-0400
TZNAME:EDT
DTSTART:20220313T070000
END:DAYLIGHT
BEGIN:STANDARD
TZOFFSETFROM:-0400
TZOFFSETTO:-0500
TZNAME:EST
DTSTART:20221106T060000
END:STANDARD
END:VTIMEZONE
BEGIN:VEVENT
DTSTART;VALUE=DATE:20220129
DTEND;VALUE=DATE:20220307
DTSTAMP:20260424T081158
CREATED:20220201T105815Z
LAST-MODIFIED:20220201T105815Z
UID:31697-1643414400-1646611199@eastangus.ca
SUMMARY:Fabrique ton hiver dans le Haut-Saint-François
DESCRIPTION:Circuit hivernal – Fabrique ton hiver dans le Haut-Saint-François \nProfitez du plein air et visitez la région du Haut-Saint-François
URL:https://eastangus.ca/evenement/fabrique-ton-hiver-dans-le-haut-saint-francois/
LOCATION:Québec
CATEGORIES:Spectacles et événements
ATTACH;FMTTYPE=image/jpeg:https://eastangus.ca/wp-content/uploads/2022/02/Bandeau-FB-Fabrique-ton-hiver-2022.jpg
END:VEVENT
BEGIN:VEVENT
DTSTART;TZID=America/Toronto:20220131T080000
DTEND;TZID=America/Toronto:20220131T160000
DTSTAMP:20260424T081158
CREATED:20211128T154231Z
LAST-MODIFIED:20220208T224348Z
UID:30510-1643616000-1643644800@eastangus.ca
SUMMARY:Période d'inscription à la semaine de relâche en folie en cours jusqu'au 23 février 2022
DESCRIPTION:Période d’inscription à la semaine de relâche en folie en cours jusqu’au 23 février 2022\nInscription – Semaine de relâche en folie : Cliquez ici
URL:https://eastangus.ca/evenement/periode-dinscription-a-la-semaine-de-relache-en-folie-en-cours-jusquau-18-fevrier-2022/2022-01-31/
LOCATION:Hôtel de ville de East Angus\, 200\, rue Saint-Jean Est\, East Angus\, Québec\, J0B 1R0\, Canada
CATEGORIES:Camp de jour
ATTACH;FMTTYPE=image/jpeg:https://eastangus.ca/wp-content/uploads/2020/12/Relache-en-folie-Les-Virevents-couleur-Converti.jpg
ORGANIZER;CN="Ville de East Angus":MAILTO:info@eastangus.ca
END:VEVENT
END:VCALENDAR