BEGIN:VCALENDAR
VERSION:2.0
PRODID:-//Ville East Angus - ECPv6.7.0//NONSGML v1.0//EN
CALSCALE:GREGORIAN
METHOD:PUBLISH
X-WR-CALNAME:Ville East Angus
X-ORIGINAL-URL:https://eastangus.ca
X-WR-CALDESC:Événements pour Ville East Angus
REFRESH-INTERVAL;VALUE=DURATION:PT1H
X-Robots-Tag:noindex
X-PUBLISHED-TTL:PT1H
BEGIN:VTIMEZONE
TZID:America/Toronto
BEGIN:DAYLIGHT
TZOFFSETFROM:-0500
TZOFFSETTO:-0400
TZNAME:EDT
DTSTART:20220313T070000
END:DAYLIGHT
BEGIN:STANDARD
TZOFFSETFROM:-0400
TZOFFSETTO:-0500
TZNAME:EST
DTSTART:20221106T060000
END:STANDARD
END:VTIMEZONE
BEGIN:VEVENT
DTSTART;VALUE=DATE:20220129
DTEND;VALUE=DATE:20220307
DTSTAMP:20260424T063420
CREATED:20220201T105815Z
LAST-MODIFIED:20220201T105815Z
UID:31697-1643414400-1646611199@eastangus.ca
SUMMARY:Fabrique ton hiver dans le Haut-Saint-François
DESCRIPTION:Circuit hivernal – Fabrique ton hiver dans le Haut-Saint-François \nProfitez du plein air et visitez la région du Haut-Saint-François
URL:https://eastangus.ca/evenement/fabrique-ton-hiver-dans-le-haut-saint-francois/
LOCATION:Québec
CATEGORIES:Spectacles et événements
ATTACH;FMTTYPE=image/jpeg:https://eastangus.ca/wp-content/uploads/2022/02/Bandeau-FB-Fabrique-ton-hiver-2022.jpg
END:VEVENT
BEGIN:VEVENT
DTSTART;TZID=America/Toronto:20220226T090000
DTEND;TZID=America/Toronto:20220226T160000
DTSTAMP:20260424T063420
CREATED:20211128T155134Z
LAST-MODIFIED:20220212T135729Z
UID:30532-1645866000-1645891200@eastangus.ca
SUMMARY:Inscription – Soccer (Dribbleurs du Haut-Saint-François) - 26-27 février de 9 h à 16 h à l'Hôtel de ville de East Angus
DESCRIPTION:26-27 février\nInscription – Soccer (Dribbleurs du Haut-Saint-François)\nSamedi 26 février de 9 h à 16 h\nDimanche 27 février de 9 h à 16 h\nHôtel de ville
URL:https://eastangus.ca/evenement/inscription-soccer-dribbleurs-du-haut-saint-francois/2022-02-26/
LOCATION:Hôtel de ville de East Angus\, 200\, rue Saint-Jean Est\, East Angus\, Québec\, J0B 1R0\, Canada
CATEGORIES:Sports
ATTACH;FMTTYPE=image/jpeg:https://eastangus.ca/wp-content/uploads/2021/11/Inscriptions-Ete-2022.jpg
ORGANIZER;CN="Club de soccer Les Dribbleurs du Haut-Saint-Fran%C3%A7ois":MAILTO:info@dribbleursduhautstfrancois.com
END:VEVENT
BEGIN:VEVENT
DTSTART;TZID=America/Toronto:20220226T190000
DTEND;TZID=America/Toronto:20220226T213000
DTSTAMP:20260424T063420
CREATED:20220221T015255Z
LAST-MODIFIED:20220221T015534Z
UID:32215-1645902000-1645911000@eastangus.ca
SUMMARY:Sharks de East Angus vs Nordik Blades de Val-des-Sources
DESCRIPTION:Série 2 de 3\nSharks de East Angus vs Nordik Blades de Val-des-Sources\nSamedi 26 février à 19 h à l’Aréna Robert-Fournier de East Angus\nLigue Régionale de Hockey
URL:https://eastangus.ca/evenement/sharks-de-east-angus-vs-nordik-blades-de-val-des-sources/
LOCATION:Aréna Robert-Fournier\, 190\, rue Kennedy\, East Angus\, Québec\, J0B 1R0\, Canada
CATEGORIES:Sports
ATTACH;FMTTYPE=image/jpeg:https://eastangus.ca/wp-content/uploads/2021/09/Sharks-de-East-Angus-1-4.jpg
END:VEVENT
END:VCALENDAR