BEGIN:VCALENDAR
VERSION:2.0
PRODID:-//Ville East Angus - ECPv6.7.0//NONSGML v1.0//EN
CALSCALE:GREGORIAN
METHOD:PUBLISH
X-WR-CALNAME:Ville East Angus
X-ORIGINAL-URL:https://eastangus.ca
X-WR-CALDESC:Événements pour Ville East Angus
REFRESH-INTERVAL;VALUE=DURATION:PT1H
X-Robots-Tag:noindex
X-PUBLISHED-TTL:PT1H
BEGIN:VTIMEZONE
TZID:America/Toronto
BEGIN:DAYLIGHT
TZOFFSETFROM:-0500
TZOFFSETTO:-0400
TZNAME:EDT
DTSTART:20220313T070000
END:DAYLIGHT
BEGIN:STANDARD
TZOFFSETFROM:-0400
TZOFFSETTO:-0500
TZNAME:EST
DTSTART:20221106T060000
END:STANDARD
END:VTIMEZONE
BEGIN:VEVENT
DTSTART;VALUE=DATE:20220129
DTEND;VALUE=DATE:20220307
DTSTAMP:20260424T063422
CREATED:20220201T105815Z
LAST-MODIFIED:20220201T105815Z
UID:31697-1643414400-1646611199@eastangus.ca
SUMMARY:Fabrique ton hiver dans le Haut-Saint-François
DESCRIPTION:Circuit hivernal – Fabrique ton hiver dans le Haut-Saint-François \nProfitez du plein air et visitez la région du Haut-Saint-François
URL:https://eastangus.ca/evenement/fabrique-ton-hiver-dans-le-haut-saint-francois/
LOCATION:Québec
CATEGORIES:Spectacles et événements
ATTACH;FMTTYPE=image/jpeg:https://eastangus.ca/wp-content/uploads/2022/02/Bandeau-FB-Fabrique-ton-hiver-2022.jpg
END:VEVENT
BEGIN:VEVENT
DTSTART;TZID=America/Toronto:20220301T080000
DTEND;TZID=America/Toronto:20220301T160000
DTSTAMP:20260424T063422
CREATED:20211128T160622Z
LAST-MODIFIED:20211128T160622Z
UID:30542-1646121600-1646150400@eastangus.ca
SUMMARY:Paiement de taxes
DESCRIPTION:
URL:https://eastangus.ca/evenement/paiement-de-taxes/2022-03-01/
LOCATION:Hôtel de ville de East Angus\, 200\, rue Saint-Jean Est\, East Angus\, Québec\, J0B 1R0\, Canada
CATEGORIES:Taxes
ATTACH;FMTTYPE=image/jpeg:https://eastangus.ca/wp-content/uploads/2020/03/Comptes-de-taxes-1024x768.jpg
ORGANIZER;CN="Ville de East Angus":MAILTO:info@eastangus.ca
END:VEVENT
BEGIN:VEVENT
DTSTART;TZID=America/Toronto:20220301T090000
DTEND;TZID=America/Toronto:20220301T160000
DTSTAMP:20260424T063422
CREATED:20220228T225317Z
LAST-MODIFIED:20220228T230353Z
UID:32284-1646125200-1646150400@eastangus.ca
SUMMARY:Prêt de raquettes et de tube pour la glissade sur neige au Parc des Deux Rivières
DESCRIPTION:Prêt de raquettes et de tube pour la glissade sur neige\nDu mardi 1er mars au samedi 5 mars 2022 de 9 h à 16 h
URL:https://eastangus.ca/evenement/pret-de-raquettes-et-de-tube-pour-la-glissade-sur-neige/2022-03-01/
LOCATION:Parc des Deux Rivières\, rue Willard\, East Angus\, Québec\, J0B 1R0\, Canada
CATEGORIES:Spectacles et événements
ATTACH;FMTTYPE=image/jpeg:https://eastangus.ca/wp-content/uploads/2022/02/Tubes-et-raquettes.jpg
ORGANIZER;CN="Ville de East Angus":MAILTO:info@eastangus.ca
END:VEVENT
END:VCALENDAR