BEGIN:VCALENDAR
VERSION:2.0
PRODID:-//Ville East Angus - ECPv6.7.0//NONSGML v1.0//EN
CALSCALE:GREGORIAN
METHOD:PUBLISH
X-ORIGINAL-URL:https://eastangus.ca
X-WR-CALDESC:Événements pour Ville East Angus
REFRESH-INTERVAL;VALUE=DURATION:PT1H
X-Robots-Tag:noindex
X-PUBLISHED-TTL:PT1H
BEGIN:VTIMEZONE
TZID:America/Toronto
BEGIN:DAYLIGHT
TZOFFSETFROM:-0500
TZOFFSETTO:-0400
TZNAME:EDT
DTSTART:20220313T070000
END:DAYLIGHT
BEGIN:STANDARD
TZOFFSETFROM:-0400
TZOFFSETTO:-0500
TZNAME:EST
DTSTART:20221106T060000
END:STANDARD
BEGIN:DAYLIGHT
TZOFFSETFROM:-0500
TZOFFSETTO:-0400
TZNAME:EDT
DTSTART:20230312T070000
END:DAYLIGHT
BEGIN:STANDARD
TZOFFSETFROM:-0400
TZOFFSETTO:-0500
TZNAME:EST
DTSTART:20231105T060000
END:STANDARD
BEGIN:DAYLIGHT
TZOFFSETFROM:-0500
TZOFFSETTO:-0400
TZNAME:EDT
DTSTART:20240310T070000
END:DAYLIGHT
BEGIN:STANDARD
TZOFFSETFROM:-0400
TZOFFSETTO:-0500
TZNAME:EST
DTSTART:20241103T060000
END:STANDARD
END:VTIMEZONE
BEGIN:VEVENT
DTSTART;TZID=America/Toronto:20240513T080000
DTEND;TZID=America/Toronto:20240513T163000
DTSTAMP:20260422T212400
CREATED:20231230T101758Z
LAST-MODIFIED:20231230T101758Z
UID:38485-1715587200-1715617800@eastangus.ca
SUMMARY:Période d'inscription - Service d'animation estival (SAE) - Camp de jour - 15 avril au 31 mai 2024
DESCRIPTION:Inscriptions\nService d’Animation Estival et cours de natation\nDate limite pour s’inscrire : 31 mai 2024
URL:https://eastangus.ca/evenement/periode-dinscription-service-danimation-estival-sae-camp-de-jour-15-avril-au-31-mai-2024/2024-05-13/
LOCATION:Hôtel de ville de East Angus\, 200\, rue Saint-Jean Est\, East Angus\, Québec\, J0B 1R0\, Canada
CATEGORIES:Camp de jour
ATTACH;FMTTYPE=image/jpeg:https://eastangus.ca/wp-content/uploads/2020/12/SAE-Les-Virevents.jpg
ORGANIZER;CN="Ville de East Angus":MAILTO:info@eastangus.ca
END:VEVENT
BEGIN:VEVENT
DTSTART;TZID=America/Toronto:20240512T080000
DTEND;TZID=America/Toronto:20240512T163000
DTSTAMP:20260422T212400
CREATED:20231230T101758Z
LAST-MODIFIED:20231230T101758Z
UID:38484-1715500800-1715531400@eastangus.ca
SUMMARY:Période d'inscription - Service d'animation estival (SAE) - Camp de jour - 15 avril au 31 mai 2024
DESCRIPTION:Inscriptions\nService d’Animation Estival et cours de natation\nDate limite pour s’inscrire : 31 mai 2024
URL:https://eastangus.ca/evenement/periode-dinscription-service-danimation-estival-sae-camp-de-jour-15-avril-au-31-mai-2024/2024-05-12/
LOCATION:Hôtel de ville de East Angus\, 200\, rue Saint-Jean Est\, East Angus\, Québec\, J0B 1R0\, Canada
CATEGORIES:Camp de jour
ATTACH;FMTTYPE=image/jpeg:https://eastangus.ca/wp-content/uploads/2020/12/SAE-Les-Virevents.jpg
ORGANIZER;CN="Ville de East Angus":MAILTO:info@eastangus.ca
END:VEVENT
BEGIN:VEVENT
DTSTART;TZID=America/Toronto:20240511T080000
DTEND;TZID=America/Toronto:20240511T163000
DTSTAMP:20260422T212400
CREATED:20231230T101758Z
LAST-MODIFIED:20231230T101758Z
UID:38483-1715414400-1715445000@eastangus.ca
SUMMARY:Période d'inscription - Service d'animation estival (SAE) - Camp de jour - 15 avril au 31 mai 2024
DESCRIPTION:Inscriptions\nService d’Animation Estival et cours de natation\nDate limite pour s’inscrire : 31 mai 2024
URL:https://eastangus.ca/evenement/periode-dinscription-service-danimation-estival-sae-camp-de-jour-15-avril-au-31-mai-2024/2024-05-11/
LOCATION:Hôtel de ville de East Angus\, 200\, rue Saint-Jean Est\, East Angus\, Québec\, J0B 1R0\, Canada
CATEGORIES:Camp de jour
ATTACH;FMTTYPE=image/jpeg:https://eastangus.ca/wp-content/uploads/2020/12/SAE-Les-Virevents.jpg
ORGANIZER;CN="Ville de East Angus":MAILTO:info@eastangus.ca
END:VEVENT
BEGIN:VEVENT
DTSTART;TZID=America/Toronto:20240510T080000
DTEND;TZID=America/Toronto:20240510T163000
DTSTAMP:20260422T212400
CREATED:20231230T101758Z
LAST-MODIFIED:20231230T101758Z
UID:38482-1715328000-1715358600@eastangus.ca
SUMMARY:Période d'inscription - Service d'animation estival (SAE) - Camp de jour - 15 avril au 31 mai 2024
DESCRIPTION:Inscriptions\nService d’Animation Estival et cours de natation\nDate limite pour s’inscrire : 31 mai 2024
URL:https://eastangus.ca/evenement/periode-dinscription-service-danimation-estival-sae-camp-de-jour-15-avril-au-31-mai-2024/2024-05-10/
LOCATION:Hôtel de ville de East Angus\, 200\, rue Saint-Jean Est\, East Angus\, Québec\, J0B 1R0\, Canada
CATEGORIES:Camp de jour
ATTACH;FMTTYPE=image/jpeg:https://eastangus.ca/wp-content/uploads/2020/12/SAE-Les-Virevents.jpg
ORGANIZER;CN="Ville de East Angus":MAILTO:info@eastangus.ca
END:VEVENT
BEGIN:VEVENT
DTSTART;TZID=America/Toronto:20240509T080000
DTEND;TZID=America/Toronto:20240509T163000
DTSTAMP:20260422T212400
CREATED:20231230T101758Z
LAST-MODIFIED:20231230T101758Z
UID:38481-1715241600-1715272200@eastangus.ca
SUMMARY:Période d'inscription - Service d'animation estival (SAE) - Camp de jour - 15 avril au 31 mai 2024
DESCRIPTION:Inscriptions\nService d’Animation Estival et cours de natation\nDate limite pour s’inscrire : 31 mai 2024
URL:https://eastangus.ca/evenement/periode-dinscription-service-danimation-estival-sae-camp-de-jour-15-avril-au-31-mai-2024/2024-05-09/
LOCATION:Hôtel de ville de East Angus\, 200\, rue Saint-Jean Est\, East Angus\, Québec\, J0B 1R0\, Canada
CATEGORIES:Camp de jour
ATTACH;FMTTYPE=image/jpeg:https://eastangus.ca/wp-content/uploads/2020/12/SAE-Les-Virevents.jpg
ORGANIZER;CN="Ville de East Angus":MAILTO:info@eastangus.ca
END:VEVENT
BEGIN:VEVENT
DTSTART;TZID=America/Toronto:20240508T080000
DTEND;TZID=America/Toronto:20240508T163000
DTSTAMP:20260422T212400
CREATED:20231230T101758Z
LAST-MODIFIED:20231230T101758Z
UID:38480-1715155200-1715185800@eastangus.ca
SUMMARY:Période d'inscription - Service d'animation estival (SAE) - Camp de jour - 15 avril au 31 mai 2024
DESCRIPTION:Inscriptions\nService d’Animation Estival et cours de natation\nDate limite pour s’inscrire : 31 mai 2024
URL:https://eastangus.ca/evenement/periode-dinscription-service-danimation-estival-sae-camp-de-jour-15-avril-au-31-mai-2024/2024-05-08/
LOCATION:Hôtel de ville de East Angus\, 200\, rue Saint-Jean Est\, East Angus\, Québec\, J0B 1R0\, Canada
CATEGORIES:Camp de jour
ATTACH;FMTTYPE=image/jpeg:https://eastangus.ca/wp-content/uploads/2020/12/SAE-Les-Virevents.jpg
ORGANIZER;CN="Ville de East Angus":MAILTO:info@eastangus.ca
END:VEVENT
BEGIN:VEVENT
DTSTART;TZID=America/Toronto:20240507T080000
DTEND;TZID=America/Toronto:20240507T163000
DTSTAMP:20260422T212400
CREATED:20231230T101758Z
LAST-MODIFIED:20231230T101758Z
UID:38479-1715068800-1715099400@eastangus.ca
SUMMARY:Période d'inscription - Service d'animation estival (SAE) - Camp de jour - 15 avril au 31 mai 2024
DESCRIPTION:Inscriptions\nService d’Animation Estival et cours de natation\nDate limite pour s’inscrire : 31 mai 2024
URL:https://eastangus.ca/evenement/periode-dinscription-service-danimation-estival-sae-camp-de-jour-15-avril-au-31-mai-2024/2024-05-07/
LOCATION:Hôtel de ville de East Angus\, 200\, rue Saint-Jean Est\, East Angus\, Québec\, J0B 1R0\, Canada
CATEGORIES:Camp de jour
ATTACH;FMTTYPE=image/jpeg:https://eastangus.ca/wp-content/uploads/2020/12/SAE-Les-Virevents.jpg
ORGANIZER;CN="Ville de East Angus":MAILTO:info@eastangus.ca
END:VEVENT
BEGIN:VEVENT
DTSTART;TZID=America/Toronto:20240506T080000
DTEND;TZID=America/Toronto:20240506T163000
DTSTAMP:20260422T212400
CREATED:20231230T101758Z
LAST-MODIFIED:20231230T101758Z
UID:38478-1714982400-1715013000@eastangus.ca
SUMMARY:Période d'inscription - Service d'animation estival (SAE) - Camp de jour - 15 avril au 31 mai 2024
DESCRIPTION:Inscriptions\nService d’Animation Estival et cours de natation\nDate limite pour s’inscrire : 31 mai 2024
URL:https://eastangus.ca/evenement/periode-dinscription-service-danimation-estival-sae-camp-de-jour-15-avril-au-31-mai-2024/2024-05-06/
LOCATION:Hôtel de ville de East Angus\, 200\, rue Saint-Jean Est\, East Angus\, Québec\, J0B 1R0\, Canada
CATEGORIES:Camp de jour
ATTACH;FMTTYPE=image/jpeg:https://eastangus.ca/wp-content/uploads/2020/12/SAE-Les-Virevents.jpg
ORGANIZER;CN="Ville de East Angus":MAILTO:info@eastangus.ca
END:VEVENT
BEGIN:VEVENT
DTSTART;TZID=America/Toronto:20240505T080000
DTEND;TZID=America/Toronto:20240505T163000
DTSTAMP:20260422T212400
CREATED:20231230T101758Z
LAST-MODIFIED:20231230T101758Z
UID:38477-1714896000-1714926600@eastangus.ca
SUMMARY:Période d'inscription - Service d'animation estival (SAE) - Camp de jour - 15 avril au 31 mai 2024
DESCRIPTION:Inscriptions\nService d’Animation Estival et cours de natation\nDate limite pour s’inscrire : 31 mai 2024
URL:https://eastangus.ca/evenement/periode-dinscription-service-danimation-estival-sae-camp-de-jour-15-avril-au-31-mai-2024/2024-05-05/
LOCATION:Hôtel de ville de East Angus\, 200\, rue Saint-Jean Est\, East Angus\, Québec\, J0B 1R0\, Canada
CATEGORIES:Camp de jour
ATTACH;FMTTYPE=image/jpeg:https://eastangus.ca/wp-content/uploads/2020/12/SAE-Les-Virevents.jpg
ORGANIZER;CN="Ville de East Angus":MAILTO:info@eastangus.ca
END:VEVENT
BEGIN:VEVENT
DTSTART;TZID=America/Toronto:20240504T080000
DTEND;TZID=America/Toronto:20240504T163000
DTSTAMP:20260422T212400
CREATED:20231230T101758Z
LAST-MODIFIED:20231230T101758Z
UID:38476-1714809600-1714840200@eastangus.ca
SUMMARY:Période d'inscription - Service d'animation estival (SAE) - Camp de jour - 15 avril au 31 mai 2024
DESCRIPTION:Inscriptions\nService d’Animation Estival et cours de natation\nDate limite pour s’inscrire : 31 mai 2024
URL:https://eastangus.ca/evenement/periode-dinscription-service-danimation-estival-sae-camp-de-jour-15-avril-au-31-mai-2024/2024-05-04/
LOCATION:Hôtel de ville de East Angus\, 200\, rue Saint-Jean Est\, East Angus\, Québec\, J0B 1R0\, Canada
CATEGORIES:Camp de jour
ATTACH;FMTTYPE=image/jpeg:https://eastangus.ca/wp-content/uploads/2020/12/SAE-Les-Virevents.jpg
ORGANIZER;CN="Ville de East Angus":MAILTO:info@eastangus.ca
END:VEVENT
BEGIN:VEVENT
DTSTART;TZID=America/Toronto:20240503T080000
DTEND;TZID=America/Toronto:20240503T163000
DTSTAMP:20260422T212400
CREATED:20231230T101758Z
LAST-MODIFIED:20231230T101758Z
UID:38475-1714723200-1714753800@eastangus.ca
SUMMARY:Période d'inscription - Service d'animation estival (SAE) - Camp de jour - 15 avril au 31 mai 2024
DESCRIPTION:Inscriptions\nService d’Animation Estival et cours de natation\nDate limite pour s’inscrire : 31 mai 2024
URL:https://eastangus.ca/evenement/periode-dinscription-service-danimation-estival-sae-camp-de-jour-15-avril-au-31-mai-2024/2024-05-03/
LOCATION:Hôtel de ville de East Angus\, 200\, rue Saint-Jean Est\, East Angus\, Québec\, J0B 1R0\, Canada
CATEGORIES:Camp de jour
ATTACH;FMTTYPE=image/jpeg:https://eastangus.ca/wp-content/uploads/2020/12/SAE-Les-Virevents.jpg
ORGANIZER;CN="Ville de East Angus":MAILTO:info@eastangus.ca
END:VEVENT
BEGIN:VEVENT
DTSTART;TZID=America/Toronto:20240502T080000
DTEND;TZID=America/Toronto:20240502T163000
DTSTAMP:20260422T212400
CREATED:20231230T101758Z
LAST-MODIFIED:20231230T101758Z
UID:38474-1714636800-1714667400@eastangus.ca
SUMMARY:Période d'inscription - Service d'animation estival (SAE) - Camp de jour - 15 avril au 31 mai 2024
DESCRIPTION:Inscriptions\nService d’Animation Estival et cours de natation\nDate limite pour s’inscrire : 31 mai 2024
URL:https://eastangus.ca/evenement/periode-dinscription-service-danimation-estival-sae-camp-de-jour-15-avril-au-31-mai-2024/2024-05-02/
LOCATION:Hôtel de ville de East Angus\, 200\, rue Saint-Jean Est\, East Angus\, Québec\, J0B 1R0\, Canada
CATEGORIES:Camp de jour
ATTACH;FMTTYPE=image/jpeg:https://eastangus.ca/wp-content/uploads/2020/12/SAE-Les-Virevents.jpg
ORGANIZER;CN="Ville de East Angus":MAILTO:info@eastangus.ca
END:VEVENT
BEGIN:VEVENT
DTSTART;TZID=America/Toronto:20240501T080000
DTEND;TZID=America/Toronto:20240501T163000
DTSTAMP:20260422T212400
CREATED:20231230T101758Z
LAST-MODIFIED:20231230T101758Z
UID:38473-1714550400-1714581000@eastangus.ca
SUMMARY:Période d'inscription - Service d'animation estival (SAE) - Camp de jour - 15 avril au 31 mai 2024
DESCRIPTION:Inscriptions\nService d’Animation Estival et cours de natation\nDate limite pour s’inscrire : 31 mai 2024
URL:https://eastangus.ca/evenement/periode-dinscription-service-danimation-estival-sae-camp-de-jour-15-avril-au-31-mai-2024/2024-05-01/
LOCATION:Hôtel de ville de East Angus\, 200\, rue Saint-Jean Est\, East Angus\, Québec\, J0B 1R0\, Canada
CATEGORIES:Camp de jour
ATTACH;FMTTYPE=image/jpeg:https://eastangus.ca/wp-content/uploads/2020/12/SAE-Les-Virevents.jpg
ORGANIZER;CN="Ville de East Angus":MAILTO:info@eastangus.ca
END:VEVENT
BEGIN:VEVENT
DTSTART;TZID=America/Toronto:20240430T080000
DTEND;TZID=America/Toronto:20240430T163000
DTSTAMP:20260422T212400
CREATED:20231230T101758Z
LAST-MODIFIED:20231230T101758Z
UID:38472-1714464000-1714494600@eastangus.ca
SUMMARY:Période d'inscription - Service d'animation estival (SAE) - Camp de jour - 15 avril au 31 mai 2024
DESCRIPTION:Inscriptions\nService d’Animation Estival et cours de natation\nDate limite pour s’inscrire : 31 mai 2024
URL:https://eastangus.ca/evenement/periode-dinscription-service-danimation-estival-sae-camp-de-jour-15-avril-au-31-mai-2024/2024-04-30/
LOCATION:Hôtel de ville de East Angus\, 200\, rue Saint-Jean Est\, East Angus\, Québec\, J0B 1R0\, Canada
CATEGORIES:Camp de jour
ATTACH;FMTTYPE=image/jpeg:https://eastangus.ca/wp-content/uploads/2020/12/SAE-Les-Virevents.jpg
ORGANIZER;CN="Ville de East Angus":MAILTO:info@eastangus.ca
END:VEVENT
BEGIN:VEVENT
DTSTART;TZID=America/Toronto:20240429T080000
DTEND;TZID=America/Toronto:20240429T163000
DTSTAMP:20260422T212400
CREATED:20231230T101758Z
LAST-MODIFIED:20231230T101758Z
UID:38471-1714377600-1714408200@eastangus.ca
SUMMARY:Période d'inscription - Service d'animation estival (SAE) - Camp de jour - 15 avril au 31 mai 2024
DESCRIPTION:Inscriptions\nService d’Animation Estival et cours de natation\nDate limite pour s’inscrire : 31 mai 2024
URL:https://eastangus.ca/evenement/periode-dinscription-service-danimation-estival-sae-camp-de-jour-15-avril-au-31-mai-2024/2024-04-29/
LOCATION:Hôtel de ville de East Angus\, 200\, rue Saint-Jean Est\, East Angus\, Québec\, J0B 1R0\, Canada
CATEGORIES:Camp de jour
ATTACH;FMTTYPE=image/jpeg:https://eastangus.ca/wp-content/uploads/2020/12/SAE-Les-Virevents.jpg
ORGANIZER;CN="Ville de East Angus":MAILTO:info@eastangus.ca
END:VEVENT
BEGIN:VEVENT
DTSTART;TZID=America/Toronto:20240428T080000
DTEND;TZID=America/Toronto:20240428T163000
DTSTAMP:20260422T212400
CREATED:20231230T101758Z
LAST-MODIFIED:20231230T101758Z
UID:38470-1714291200-1714321800@eastangus.ca
SUMMARY:Période d'inscription - Service d'animation estival (SAE) - Camp de jour - 15 avril au 31 mai 2024
DESCRIPTION:Inscriptions\nService d’Animation Estival et cours de natation\nDate limite pour s’inscrire : 31 mai 2024
URL:https://eastangus.ca/evenement/periode-dinscription-service-danimation-estival-sae-camp-de-jour-15-avril-au-31-mai-2024/2024-04-28/
LOCATION:Hôtel de ville de East Angus\, 200\, rue Saint-Jean Est\, East Angus\, Québec\, J0B 1R0\, Canada
CATEGORIES:Camp de jour
ATTACH;FMTTYPE=image/jpeg:https://eastangus.ca/wp-content/uploads/2020/12/SAE-Les-Virevents.jpg
ORGANIZER;CN="Ville de East Angus":MAILTO:info@eastangus.ca
END:VEVENT
BEGIN:VEVENT
DTSTART;TZID=America/Toronto:20240427T080000
DTEND;TZID=America/Toronto:20240427T163000
DTSTAMP:20260422T212400
CREATED:20231230T101758Z
LAST-MODIFIED:20231230T101758Z
UID:38469-1714204800-1714235400@eastangus.ca
SUMMARY:Période d'inscription - Service d'animation estival (SAE) - Camp de jour - 15 avril au 31 mai 2024
DESCRIPTION:Inscriptions\nService d’Animation Estival et cours de natation\nDate limite pour s’inscrire : 31 mai 2024
URL:https://eastangus.ca/evenement/periode-dinscription-service-danimation-estival-sae-camp-de-jour-15-avril-au-31-mai-2024/2024-04-27/
LOCATION:Hôtel de ville de East Angus\, 200\, rue Saint-Jean Est\, East Angus\, Québec\, J0B 1R0\, Canada
CATEGORIES:Camp de jour
ATTACH;FMTTYPE=image/jpeg:https://eastangus.ca/wp-content/uploads/2020/12/SAE-Les-Virevents.jpg
ORGANIZER;CN="Ville de East Angus":MAILTO:info@eastangus.ca
END:VEVENT
BEGIN:VEVENT
DTSTART;TZID=America/Toronto:20240426T080000
DTEND;TZID=America/Toronto:20240426T163000
DTSTAMP:20260422T212400
CREATED:20231230T101758Z
LAST-MODIFIED:20231230T101758Z
UID:38468-1714118400-1714149000@eastangus.ca
SUMMARY:Période d'inscription - Service d'animation estival (SAE) - Camp de jour - 15 avril au 31 mai 2024
DESCRIPTION:Inscriptions\nService d’Animation Estival et cours de natation\nDate limite pour s’inscrire : 31 mai 2024
URL:https://eastangus.ca/evenement/periode-dinscription-service-danimation-estival-sae-camp-de-jour-15-avril-au-31-mai-2024/2024-04-26/
LOCATION:Hôtel de ville de East Angus\, 200\, rue Saint-Jean Est\, East Angus\, Québec\, J0B 1R0\, Canada
CATEGORIES:Camp de jour
ATTACH;FMTTYPE=image/jpeg:https://eastangus.ca/wp-content/uploads/2020/12/SAE-Les-Virevents.jpg
ORGANIZER;CN="Ville de East Angus":MAILTO:info@eastangus.ca
END:VEVENT
BEGIN:VEVENT
DTSTART;TZID=America/Toronto:20240425T080000
DTEND;TZID=America/Toronto:20240425T163000
DTSTAMP:20260422T212400
CREATED:20231230T101758Z
LAST-MODIFIED:20231230T101758Z
UID:38467-1714032000-1714062600@eastangus.ca
SUMMARY:Période d'inscription - Service d'animation estival (SAE) - Camp de jour - 15 avril au 31 mai 2024
DESCRIPTION:Inscriptions\nService d’Animation Estival et cours de natation\nDate limite pour s’inscrire : 31 mai 2024
URL:https://eastangus.ca/evenement/periode-dinscription-service-danimation-estival-sae-camp-de-jour-15-avril-au-31-mai-2024/2024-04-25/
LOCATION:Hôtel de ville de East Angus\, 200\, rue Saint-Jean Est\, East Angus\, Québec\, J0B 1R0\, Canada
CATEGORIES:Camp de jour
ATTACH;FMTTYPE=image/jpeg:https://eastangus.ca/wp-content/uploads/2020/12/SAE-Les-Virevents.jpg
ORGANIZER;CN="Ville de East Angus":MAILTO:info@eastangus.ca
END:VEVENT
BEGIN:VEVENT
DTSTART;TZID=America/Toronto:20240424T080000
DTEND;TZID=America/Toronto:20240424T163000
DTSTAMP:20260422T212400
CREATED:20231230T101758Z
LAST-MODIFIED:20231230T101758Z
UID:38466-1713945600-1713976200@eastangus.ca
SUMMARY:Période d'inscription - Service d'animation estival (SAE) - Camp de jour - 15 avril au 31 mai 2024
DESCRIPTION:Inscriptions\nService d’Animation Estival et cours de natation\nDate limite pour s’inscrire : 31 mai 2024
URL:https://eastangus.ca/evenement/periode-dinscription-service-danimation-estival-sae-camp-de-jour-15-avril-au-31-mai-2024/2024-04-24/
LOCATION:Hôtel de ville de East Angus\, 200\, rue Saint-Jean Est\, East Angus\, Québec\, J0B 1R0\, Canada
CATEGORIES:Camp de jour
ATTACH;FMTTYPE=image/jpeg:https://eastangus.ca/wp-content/uploads/2020/12/SAE-Les-Virevents.jpg
ORGANIZER;CN="Ville de East Angus":MAILTO:info@eastangus.ca
END:VEVENT
BEGIN:VEVENT
DTSTART;TZID=America/Toronto:20240423T080000
DTEND;TZID=America/Toronto:20240423T163000
DTSTAMP:20260422T212400
CREATED:20231230T101758Z
LAST-MODIFIED:20231230T101758Z
UID:38465-1713859200-1713889800@eastangus.ca
SUMMARY:Période d'inscription - Service d'animation estival (SAE) - Camp de jour - 15 avril au 31 mai 2024
DESCRIPTION:Inscriptions\nService d’Animation Estival et cours de natation\nDate limite pour s’inscrire : 31 mai 2024
URL:https://eastangus.ca/evenement/periode-dinscription-service-danimation-estival-sae-camp-de-jour-15-avril-au-31-mai-2024/2024-04-23/
LOCATION:Hôtel de ville de East Angus\, 200\, rue Saint-Jean Est\, East Angus\, Québec\, J0B 1R0\, Canada
CATEGORIES:Camp de jour
ATTACH;FMTTYPE=image/jpeg:https://eastangus.ca/wp-content/uploads/2020/12/SAE-Les-Virevents.jpg
ORGANIZER;CN="Ville de East Angus":MAILTO:info@eastangus.ca
END:VEVENT
BEGIN:VEVENT
DTSTART;TZID=America/Toronto:20240422T080000
DTEND;TZID=America/Toronto:20240422T163000
DTSTAMP:20260422T212400
CREATED:20231230T101758Z
LAST-MODIFIED:20231230T101758Z
UID:38464-1713772800-1713803400@eastangus.ca
SUMMARY:Période d'inscription - Service d'animation estival (SAE) - Camp de jour - 15 avril au 31 mai 2024
DESCRIPTION:Inscriptions\nService d’Animation Estival et cours de natation\nDate limite pour s’inscrire : 31 mai 2024
URL:https://eastangus.ca/evenement/periode-dinscription-service-danimation-estival-sae-camp-de-jour-15-avril-au-31-mai-2024/2024-04-22/
LOCATION:Hôtel de ville de East Angus\, 200\, rue Saint-Jean Est\, East Angus\, Québec\, J0B 1R0\, Canada
CATEGORIES:Camp de jour
ATTACH;FMTTYPE=image/jpeg:https://eastangus.ca/wp-content/uploads/2020/12/SAE-Les-Virevents.jpg
ORGANIZER;CN="Ville de East Angus":MAILTO:info@eastangus.ca
END:VEVENT
BEGIN:VEVENT
DTSTART;TZID=America/Toronto:20240415T080000
DTEND;TZID=America/Toronto:20240415T163000
DTSTAMP:20260422T212400
CREATED:20231230T101758Z
LAST-MODIFIED:20231230T101758Z
UID:38456-1713168000-1713198600@eastangus.ca
SUMMARY:Période d'inscription - Service d'animation estival (SAE) - Camp de jour - 15 avril au 31 mai 2024
DESCRIPTION:Inscriptions\nService d’Animation Estival et cours de natation\nDate limite pour s’inscrire : 31 mai 2024
URL:https://eastangus.ca/evenement/periode-dinscription-service-danimation-estival-sae-camp-de-jour-15-avril-au-31-mai-2024/2024-04-15/
LOCATION:Hôtel de ville de East Angus\, 200\, rue Saint-Jean Est\, East Angus\, Québec\, J0B 1R0\, Canada
CATEGORIES:Camp de jour
ATTACH;FMTTYPE=image/jpeg:https://eastangus.ca/wp-content/uploads/2020/12/SAE-Les-Virevents.jpg
ORGANIZER;CN="Ville de East Angus":MAILTO:info@eastangus.ca
END:VEVENT
BEGIN:VEVENT
DTSTART;TZID=America/Toronto:20240129T080000
DTEND;TZID=America/Toronto:20240129T170000
DTSTAMP:20260422T212400
CREATED:20231230T092105Z
LAST-MODIFIED:20240216T161521Z
UID:38394-1706515200-1706547600@eastangus.ca
SUMMARY:Période d'inscriptions pour les 5 à 12 ans à la semaine de relâche en folie du 4 au 8 mars 2024
DESCRIPTION:Inscriptions – Semaine de relâche en folie\nDate limite pour s’inscrire le 26 février 2024. \nFormulaire d’inscriptions en ligne – SPLEX
URL:https://eastangus.ca/evenement/periode-dinscriptions-pour-les-5-a-12-ans-a-la-semaine-de-relache-en-folie-du-4-au-8-mars-2024/2024-01-29/
LOCATION:Hôtel de ville de East Angus\, 200\, rue Saint-Jean Est\, East Angus\, Québec\, J0B 1R0\, Canada
CATEGORIES:Camp de jour
ATTACH;FMTTYPE=image/jpeg:https://eastangus.ca/wp-content/uploads/2020/12/Relache-en-folie-Les-Virevents-couleur-Converti.jpg
ORGANIZER;CN="Ville de East Angus":MAILTO:info@eastangus.ca
END:VEVENT
BEGIN:VEVENT
DTSTART;TZID=America/Toronto:20230417T080000
DTEND;TZID=America/Toronto:20230417T160000
DTSTAMP:20260422T212400
CREATED:20221012T000919Z
LAST-MODIFIED:20221012T000919Z
UID:34473-1681718400-1681747200@eastangus.ca
SUMMARY:Inscription Service d’Animation Estival et cours de natation
DESCRIPTION:17 avril jusqu’au 2 juin \nInscription \nService d’Animation Estival et cours de natation \nDate limite pour s’inscrire : 2 juin \n(par internet au www.eastangus.ca ou à l’Hôtel de ville de 8 h à 16 h)
URL:https://eastangus.ca/evenement/inscription-service-danimation-estival-et-cours-de-natation-2/2023-04-17/
LOCATION:Hôtel de ville de East Angus\, 200\, rue Saint-Jean Est\, East Angus\, Québec\, J0B 1R0\, Canada
CATEGORIES:Camp de jour
ATTACH;FMTTYPE=image/jpeg:https://eastangus.ca/wp-content/uploads/2020/12/SAE-Les-Virevents.jpg
ORGANIZER;CN="Ville de East Angus":MAILTO:info@eastangus.ca
END:VEVENT
BEGIN:VEVENT
DTSTART;TZID=America/Toronto:20230130T080000
DTEND;TZID=America/Toronto:20230130T160000
DTSTAMP:20260422T212400
CREATED:20221011T233424Z
LAST-MODIFIED:20221011T233424Z
UID:34274-1675065600-1675094400@eastangus.ca
SUMMARY:À compter du 30 janvier : Inscription – Semaine de relâche en folie
DESCRIPTION:À compter du 30 janvier \nInscription – Semaine de relâche en folie \nDate limite pour s’inscrire : 18 février
URL:https://eastangus.ca/evenement/a-compter-du-30-janvier-inscription-semaine-de-relache-en-folie/2023-01-30/
LOCATION:Hôtel de ville de East Angus\, 200\, rue Saint-Jean Est\, East Angus\, Québec\, J0B 1R0\, Canada
CATEGORIES:Camp de jour
ATTACH;FMTTYPE=image/jpeg:https://eastangus.ca/wp-content/uploads/2020/12/Relache-en-folie-Les-Virevents-couleur-Converti.jpg
ORGANIZER;CN="Ville de East Angus":MAILTO:info@eastangus.ca
END:VEVENT
BEGIN:VEVENT
DTSTART;TZID=America/Toronto:20220627T070000
DTEND;TZID=America/Toronto:20220627T173000
DTSTAMP:20260422T212400
CREATED:20211128T180152Z
LAST-MODIFIED:20211128T180152Z
UID:30687-1656313200-1656351000@eastangus.ca
SUMMARY:Service d’Animation Estival et cours de natation
DESCRIPTION:27 juin au 19 août\nService d’Animation Estival et cours de natation \nEnfants inscrits seulement.
URL:https://eastangus.ca/evenement/service-danimation-estival-et-cours-de-natation/2022-06-27/
LOCATION:Pavillon des Sports\, 186\, rue St-François\, East Angus\, Québec\, J0B1R0\, Canada
CATEGORIES:Camp de jour
ORGANIZER;CN="Ville de East Angus":MAILTO:info@eastangus.ca
END:VEVENT
BEGIN:VEVENT
DTSTART;TZID=America/Toronto:20220419T080000
DTEND;TZID=America/Toronto:20220419T160000
DTSTAMP:20260422T212400
CREATED:20211128T162149Z
LAST-MODIFIED:20220415T001546Z
UID:30555-1650355200-1650384000@eastangus.ca
SUMMARY:Inscription Service d’Animation Estival et cours de natation
DESCRIPTION:Inscription\nService d’Animation Estival et cours de natation\nDate limite pour s’inscrire : 3 juin\n(au www.eastangus.ca ou à l’Hôtel de ville de 8 h à 16 h)\nhttps://eastangus.ca/loisirs/loisirs-et-vie-communautaire/camp-de-jour/ \nVoici les liens pour les inscriptions : \n\nCours de natation – https://app.sportnroll.com/#/registration/483ab633-a9ed-47ca-8801-9a32cdb968b6\nService d’animation estivale – https://app.sportnroll.com/#/registration/eb3a90a4-32f9-4710-8c3a-499d1635405
URL:https://eastangus.ca/evenement/inscription-service-danimation-estival-et-cours-de-natation/2022-04-19/
LOCATION:Hôtel de ville de East Angus\, 200\, rue Saint-Jean Est\, East Angus\, Québec\, J0B 1R0\, Canada
CATEGORIES:Camp de jour
ATTACH;FMTTYPE=image/jpeg:https://eastangus.ca/wp-content/uploads/2020/12/SAE-Les-Virevents.jpg
ORGANIZER;CN="Ville de East Angus":MAILTO:info@eastangus.ca
END:VEVENT
BEGIN:VEVENT
DTSTART;TZID=America/Toronto:20220228T070000
DTEND;TZID=America/Toronto:20220228T170000
DTSTAMP:20260422T212400
CREATED:20211128T155933Z
LAST-MODIFIED:20211128T155933Z
UID:30536-1646031600-1646067600@eastangus.ca
SUMMARY:Activités pour la Semaine de relâche en folie
DESCRIPTION:28 février au 4 mars\nActivités pour la Semaine de relâche en folie \nEnfants inscrits seulement.
URL:https://eastangus.ca/evenement/activites-pour-la-semaine-de-relache-en-folie/2022-02-28/
LOCATION:Pavillon des Sports\, 186\, rue St-François\, East Angus\, Québec\, J0B1R0\, Canada
CATEGORIES:Camp de jour
ATTACH;FMTTYPE=image/jpeg:https://eastangus.ca/wp-content/uploads/2020/12/Relache-en-folie-Les-Virevents-couleur-Converti.jpg
ORGANIZER;CN="Ville de East Angus":MAILTO:info@eastangus.ca
END:VEVENT
BEGIN:VEVENT
DTSTART;TZID=America/Toronto:20220131T080000
DTEND;TZID=America/Toronto:20220131T160000
DTSTAMP:20260422T212400
CREATED:20211128T154231Z
LAST-MODIFIED:20220208T224348Z
UID:30510-1643616000-1643644800@eastangus.ca
SUMMARY:Période d'inscription à la semaine de relâche en folie en cours jusqu'au 23 février 2022
DESCRIPTION:Période d’inscription à la semaine de relâche en folie en cours jusqu’au 23 février 2022\nInscription – Semaine de relâche en folie : Cliquez ici
URL:https://eastangus.ca/evenement/periode-dinscription-a-la-semaine-de-relache-en-folie-en-cours-jusquau-18-fevrier-2022/2022-01-31/
LOCATION:Hôtel de ville de East Angus\, 200\, rue Saint-Jean Est\, East Angus\, Québec\, J0B 1R0\, Canada
CATEGORIES:Camp de jour
ATTACH;FMTTYPE=image/jpeg:https://eastangus.ca/wp-content/uploads/2020/12/Relache-en-folie-Les-Virevents-couleur-Converti.jpg
ORGANIZER;CN="Ville de East Angus":MAILTO:info@eastangus.ca
END:VEVENT
END:VCALENDAR